{"text_format":"1","workbook":"xlsx","n_sheets":7,"sheets":["SAŽETAK","Račun prihoda i rashoda","Prihodi i rashodi po izvorima","Rashodi prema funkcijskoj kl","Račun financiranja","Račun financiranja po izvorima","Posebni dio"],"not_rendered":{"charts":0,"images":0,"macros":0,"external_links":0,"defined_names":7,"comments":0,"pivot_tables":0},"unopened":[],"bounds":{"document_bytes":16777216,"sheet_cells":100000,"rows_first":2000,"rows_last":500,"rows_between":2000,"halvings":0,"cell_chars":16384,"cell_head_chars":4096},"cells_cut":0,"cells_raw":0,"read":"whole","date_system":"1900"}

{"sheet":"SAŽETAK","index":0,"n_rows":39,"n_cols":10,"rows_kept":39,"cut":false,"hidden":false,"merged":[[19,0,19,4],[0,0,0,9],[2,0,2,9],[4,0,4,9],[7,0,7,4],[8,0,8,4],[9,0,9,4],[11,0,11,4],[12,0,12,4],[13,0,13,4],[15,0,15,9],[18,0,18,4],[38,0,38,9],[20,0,20,4],[21,0,21,4],[23,0,23,9],[26,0,26,4],[27,0,27,4],[28,0,28,4],[30,0,30,9],[33,0,33,4],[34,0,34,4],[35,0,35,4],[36,0,36,4]]}
["FINANCIJSKI PLAN MEDICINSKE ŠKOLE U RIJECI ZA 2024. I PROJEKCIJA ZA 2025. I 2026. GODINU \nZA 2024. I PROJEKCIJA ZA 2025. I 2026. GODINU"]
[]
["I. OPĆI DIO"]
[]
["A) SAŽETAK RAČUNA PRIHODA I RASHODA"]
[null,null,null,null,null,null,null,null,null,"EUR"]
[null,null,null,null,null,"Izvršenje 2022.*","Plan 2023.","Proračun za 2024.","Projekcija proračuna\nza 2025.","Projekcija proračuna\nza 2026."]
["PRIHODI UKUPNO",null,null,null,null,{"$f":"F9+F10","v":2323572.69},{"$f":"G9+G10","v":3364856.9},2929345.73,2383930.17,2383930.17]
["6 PRIHODI POSLOVANJA",null,null,null,null,{"$f":"+'Račun prihoda i rashoda'!B12","v":2323572.69},{"$f":"+'Račun prihoda i rashoda'!C12","v":3364856.9},{"$f":"+'Račun prihoda i rashoda'!D12","v":2929345.73},{"$f":"+'Račun prihoda i rashoda'!E12","v":2383930.17},{"$f":"+'Račun prihoda i rashoda'!F12","v":2383930.17}]
["7 PRIHODI OD PRODAJE NEFINANCIJSKE IMOVINE"]
["RASHODI UKUPNO",null,null,null,null,{"$f":"F12+F13","v":2332497.2100000004},{"$f":"G12+G13","v":3869019.4699999997},2409345.73,2383930.17,2383930.17]
["3 RASHODI  POSLOVANJA",null,null,null,null,{"$f":"+'Račun prihoda i rashoda'!B25","v":2316551.7200000002},{"$f":"+'Račun prihoda i rashoda'!C25","v":2527496.8899999997},{"$f":"+'Račun prihoda i rashoda'!D25","v":2406296.65},{"$f":"+'Račun prihoda i rashoda'!E25","v":2380881.09},{"$f":"+'Račun prihoda i rashoda'!F25","v":2380881.09}]
["4 RASHODI ZA NABAVU NEFINANCIJSKE IMOVINE",null,null,null,null,{"$f":"+'Račun prihoda i rashoda'!B31","v":15945.49},{"$f":"+'Račun prihoda i rashoda'!C31","v":1341522.58},{"$f":"+'Račun prihoda i rashoda'!D31","v":3049.08},{"$f":"+'Račun prihoda i rashoda'!E31","v":3049.08},{"$f":"+'Račun prihoda i rashoda'!F31","v":3049.08}]
["RAZLIKA - VIŠAK / MANJAK",null,null,null,null,{"$f":"F8-F11","v":-8924.5200000004843},{"$f":"G8-G11","v":-504162.56999999983},520000,0,0]
[]
["B) SAŽETAK RAČUNA FINANCIRANJA"]
[]
[null,null,null,null,null,"Izvršenje 2022.*","Plan 2023.","Proračun za 2024.","Projekcija proračuna\nza 2025.","Projekcija proračuna\nza 2026."]
["8 PRIMICI OD FINANCIJSKE IMOVINE I ZADUŽIVANJA",null,null,null,null,null,520000]
["5 IZDACI ZA FINANCIJSKU IMOVINU I OTPLATE ZAJMOVA",null,null,null,null,null,null,520000]
["NETO FINANCIRANJE",null,null,null,null,{"$f":"F19-F20","v":0},{"$f":"G19-G20","v":520000},-520000,0,0]
["VIŠAK / MANJAK + NETO FINANCIRANJE",null,null,null,null,{"$f":"F14+F21","v":-8924.5200000004843},{"$f":"G14+G21","v":15837.430000000168},0,0,0]
[]
["C) PRENESENI VIŠAK ILI PRENESENI MANJAK "]
[]
[null,null,null,null,null,"Izvršenje 2022.*","Plan 2023.","Proračun za 2024.","Projekcija proračuna\nza 2025.","Projekcija proračuna\nza 2026."]
["PRIJENOS VIŠKA / MANJKA IZ PRETHODNE(IH) GODINE",null,null,null,null,-6912.93,0,0,0,0]
["PRIJENOS VIŠKA / MANJKA U SLJEDEĆE RAZDOBLJE",null,null,null,null,{"$f":"F22+F27","v":-15837.450000000485},{"$f":"G22+G27","v":15837.430000000168},0,0,0]
["VIŠAK / MANJAK + NETO FINANCIRANJE + PRIJENOS VIŠKA / MANJKA IZ PRETHODNE(IH) GODINE - PRIJENOS VIŠKA / MANJKA U SLJEDEĆE RAZDOBLJE",null,null,null,null,{"$f":"F14+F21+F27-F28","v":0},{"$f":"G14+G21+G27-G28","v":0},0,0,0]
[]
["D) VIŠEGODIŠNJI PLAN URAVNOTEŽENJA"]
[]
[null,null,null,null,null,"Izvršenje 2022.*","Plan 2023.","Proračun za 2024.","Projekcija proračuna\nza 2025.","Projekcija proračuna\nza 2026."]
["PRIJENOS VIŠKA / MANJKA IZ PRETHODNE(IH) GODINE",null,null,null,null,0,{"$f":"F37","v":0},{"$f":"G37","v":0},{"$f":"H37","v":0},{"$f":"I37","v":0}]
["VIŠAK / MANJAK IZ PRETHODNE(IH) GODINE KOJI ĆE SE RASPOREDITI / POKRITI",null,null,null,null,0,0,0,0,0]
["VIŠAK / MANJAK TEKUĆE GODINE",null,null,null,null,0,0,0,0,0]
["PRIJENOS VIŠKA / MANJKA U SLJEDEĆE RAZDOBLJE",null,null,null,null,{"$f":"F34-F35+F36","v":0},{"$f":"G34-G35+G36","v":0},0,0,0]
[]
["* Napomena: Iznosi u stupcima Izvršenje 2022. preračunavaju se iz kuna u eure prema fiksnom tečaju konverzije (1 EUR=7,53450 kuna) i po pravilima za preračunavanje i zaokruživanje."]

{"sheet":"Račun prihoda i rashoda","index":1,"n_rows":33,"n_cols":6,"rows_kept":33,"cut":false,"hidden":false,"merged":[[4,0,4,7],[5,0,5,7],[7,0,7,7],[19,0,19,7],[0,0,0,9]]}
["FINANCIJSKI PLAN MEDICINSKE ŠKOLE U RIJECI ZA 2024. I PROJEKCIJA ZA 2025. I 2026. GODINU \nZA 2024. I PROJEKCIJA ZA 2025. I 2026. GODINU"]
[]
[]
[]
["I. OPĆI DIO"]
["A. RAČUN PRIHODA I RASHODA "]
[]
["PRIHODI POSLOVANJA PREMA EKONOMSKOJ KLASIFIKACIJI"]
[]
["Oznaka","Izvršenje 2022.","Plan 2023.","Plan 2024.","Projekcija 2025.","Projekcija 2026."]
["PRIHODI UKUPNO",{"$f":"+B12","v":2323572.69},{"$f":"+C12","v":3364856.9},{"$f":"+D12","v":2929345.73},{"$f":"+E12","v":2383930.17},{"$f":"+F12","v":2383930.17}]
["6 Prihodi poslovanja",{"$f":"SUM(B13:B17)","v":2323572.69},{"$f":"SUM(C13:C17)","v":3364856.9},{"$f":"+D13+D14+D15+D16+D17","v":2929345.73},2383930.17,2383930.17]
["63 Pomoći iz inozemstva i od subjekata unutar općeg proračuna",{"$f":"2120653.3+269.18","v":2120922.48},2416072.81,2683902.39,2145986.83,2145986.83]
["64 Prihodi od imovine",0.1,2,3,3,3]
["65 Prihodi od upravnih i administrativnih pristojbi, pristojbi po posebnim propisima i naknada",26319.200000000001,26650,26650,26650,26650]
["66 Prihodi od prodaje proizvoda i robe te pruženih usluga i prihodi od donacija te povrati po protestiranim jamstvima",{"$f":"18920.7+1256.62","v":20177.32},17598.82,16820.63,16820.63,16820.63]
["67 Prihodi iz nadležnog proračuna i od HZZO-a temeljem ugovornih obveza",{"$f":"16565+135295.01+4293.58","v":156153.59},904533.27,{"$f":"194469.71+7500","v":201969.71},194469.71,194469.71]
[]
[]
["RASHODI POSLOVANJA PREMA EKONOMSKOJ KLASIFIKACIJI"]
[]
[]
["Oznaka","Izvršenje 2022.","Plan 2023.","Plan 2024.","Projekcija 2025.","Projekcija 2026."]
["RASHODI UKUPNO",{"$f":"+B25+B31","v":2332497.2100000004},{"$f":"+C25+C31","v":3869019.4699999997},{"$f":"+D25+D31","v":2409345.73},{"$f":"+E25+E31","v":2383930.17},2383930.17]
["3 Rashodi poslovanja",{"$f":"SUM(B26:B30)","v":2316551.7200000002},{"$f":"SUM(C26:C30)","v":2527496.8899999997},{"$f":"+D26+D27+D28+D29+D30","v":2406296.65},2380881.09,2380881.09]
["31 Rashodi za zaposlene",{"$f":"2558.9+663.61+2096253.01","v":2099475.52},2135687.87,2144388.9500000002,2143888.9500000002,2143888.9500000002]
["32 Materijalni rashodi",204571.93,386668.97,250159.67,233452.09,233452.09]
["34 Financijski rashodi",11258.6,2048.14,{"$f":"1656.12+7500","v":9156.119999999999},948.14,948.14]
["37 Naknade građanima i kućanstvima na temelju osiguranja i druge naknade",1245.67,727.09,227.09,227.09,227.09]
["38 Ostali rashodi",null,2364.8200000000002,2364.8200000000002,2364.8200000000002,2364.8200000000002]
["4 Rashodi za nabavu nefinancijske imovine",15945.49,{"$f":"+C32+C33","v":1341522.58},3049.08,3049.08,3049.08]
["42 Rashodi za nabavu proizvedene dugotrajne imovine",15945.49,455506.53,3049.08,3049.08,3049.08]
["  45 Rashodi za dodatna ulaganja na nefinancijskoj imovini",null,886016.05]

{"sheet":"Prihodi i rashodi po izvorima","index":2,"n_rows":54,"n_cols":6,"rows_kept":54,"cut":false,"hidden":false,"merged":[[31,0,31,9],[0,0,0,9],[4,0,4,9],[5,0,5,9],[7,0,7,9]]}
["FINANCIJSKI PLAN MEDICINSKE ŠKOLE U RIJECI ZA 2024. I PROJEKCIJA ZA 2025. I 2026. GODINU \nZA 2024. I PROJEKCIJA ZA 2025. I 2026. GODINU"]
[]
[]
[]
["I. OPĆI DIO"]
["A. RAČUN PRIHODA I RASHODA "]
[]
["PRIHODI POSLOVANJA PREMA IZVORIMA FINANCIRANJA"]
[]
[]
[]
[]
["Oznaka","Izvršenje 2022.","Plan 2023.","Plan 2024.","Projekcija 2025.","Projekcija 2026."]
["PRIHODI UKUPNO",{"$f":"+B15+B18+B20+B23+B26","v":2323572.7200000002},{"$f":"+C15+C18+C20+C23+C26","v":3364856.8999999994},{"$f":"+D15+D18+D20+D23+D26","v":2929345.73},{"$f":"+E15+E18+E20+E23+E26","v":2383930.1699999995},2383930.1699999995]
["Izvor: 1 OPĆI PRIHODI I PRIMICI",{"$f":"+B16","v":16565.009999999998},738261.57,{"$f":"6695.61+7500","v":14195.61},6695.61,6695.61]
["Izvor: 11 Opći prihodi i primici",{"$f":"16324.91+240.1","v":16565.009999999998},615664.52,{"$f":"6695.61+7500","v":14195.61},6695.61,6695.61]
["Izvor  18 Prensena sredstva - opći prihodi i primici",null,122597.05]
["Izvor: 3 VLASTITI PRIHODI",{"$f":"+B19","v":18920.810000000001},14972.02,14973.02,14973.02,14973.02]
["Izvor: 32 Vlastiti prihodi - proračunski korisnici",18920.810000000001,14972.02,14973.02,14973.02,14973.02]
["Izvor: 4 PRIHODI ZA POSEBNE NAMJENE",{"$f":"+B21+B22","v":165907.80000000002},192074.11,210228.61,210228.61,210228.61]
["Izvor: 43 Prihodi za posebne namjene - proračunski korisnici",26319.200000000001,26650,26650,26650,26650]
["Izvor: 44 Prihodi za decentralizirane funkcije",139588.6,165424.10999999999,183578.61,183578.61,183578.61]
["Izvor: 5 POMOĆI",{"$f":"+B24+B25","v":2120922.48},2416920.4,2688097.88,2150182.3199999998,2150182.3199999998]
["Izvor: 51 Pomoći",0,847.59,4195.49,4195.49,4195.49]
["Izvor: 52 Pomoći - proračunski korisnici",{"$f":"2120653.3+269.18","v":2120922.48},2416072.81,2683902.39,2145986.83,2145986.83]
["Izvor: 6 DONACIJE",{"$f":"+B27","v":1256.6199999999999},2628.8,1850.61,1850.61,1850.61]
["Izvor: 62 Donacije - proračunski korisnici",1256.6199999999999,2628.8,1850.61,1850.61,1850.61]
[]
[]
[]
[]
["RASHODI POSLOVANJA PREMA IZVORIMA FINANCIRANJA"]
[]
[]
["Oznaka","Izvršenje 2022.","Plan 2023.","Plan 2024.","Projekcija 2025.","Projekcija 2026."]
["RASHODI UKUPNO",{"$f":"+B37+B40+B43+B47+B51","v":2332497.21},{"$f":"+C37+C40+C43+C47+C51+C53","v":3869019.4699999997},{"$f":"+D37+D40+D43+D47+D51","v":2409345.7299999995},{"$f":"+E37+E40+E43+E47+E51","v":2383930.1699999995},2383930.1699999995]
["Izvor: 1 OPĆI PRIHODI I PRIMICI",16565,738261.57,{"$f":"+D38","v":14195.61},6695.61,6695.61]
["Izvor: 11 Opći prihodi i primici",16565,615664.52,{"$f":"6695.61+7500","v":14195.61},6695.61,6695.61]
["Izvor  18 Prensena sredstva - opći prihodi i primici",null,122597.05]
["Izvor: 3 VLASTITI PRIHODI",14864.63,22263.48,21871.02,14973.02,14973.02]
["Izvor: 32 Vlastiti prihodi - proračunski korisnici",11629.35,14972.02,14973.02,14973.02,14973.02]
["Izvor: 38 Prenesena sredstva - vlastiti prihodi proračunskih korisnika",3235.28,7291.46,6898]
["Izvor: 4 PRIHODI ZA POSEBNE NAMJENE",{"$f":"+B44+B45+B46","v":172341.91999999998},199689.63,221246.17,210228.61,210228.61]
["Izvor: 43 Prihodi za posebne namjene - proračunski korisnici",18703.68,26650,26650,26650,26650]
["Izvor: 44 Prihodi za decentralizirane funkcije",139588.6,165424.10999999999,183578.61,183578.61,183578.61]
["Izvor: 48 Prenesena sredstva - namjenski prihodi",14049.64,7615.52,11017.56]
["Izvor: 5 POMOĆI",{"$f":"+B48+B49+B50","v":2127469.04},2386175.9900000002,2150182.3199999998,2150182.3199999998,2150182.3199999998]
["Izvor: 51 Pomoći",0,847.59,4195.49,4195.49,4195.49]
["Izvor: 52 Pomoći - proračunski korisnici",2126076.39,2384918.58,2145986.83,2145986.83,2145986.83]
["Izvor 58 Prensena sredstva  - pomoći",1392.65,409.82]
["Izvor: 6 DONACIJE",1256.6199999999999,2628.8,1850.61,1850.61,1850.61]
["Izvor: 62 Donacije - proračunski korisnici",1256.6199999999999,2628.8,1850.61,1850.61,1850.61]
["Izvor  8 NAMJENSKI PRIMICI",null,520000]
["Izvor  83 Namjenski primici - proračunski korisnici",null,520000]

{"sheet":"Rashodi prema funkcijskoj kl","index":3,"n_rows":13,"n_cols":6,"rows_kept":13,"cut":false,"hidden":false,"merged":[[3,0,3,5],[5,0,5,5],[7,0,7,5],[0,0,0,9],[1,0,1,9]]}
[]
["FINANCIJSKI PLAN MEDICINSKE ŠKOLE U RIJECI ZA 2024. I PROJEKCIJA ZA 2025. I 2026. GODINU \nZA 2024. I PROJEKCIJA ZA 2025. I 2026. GODINU"]
[]
["I. OPĆI DIO"]
[]
["A. RAČUN PRIHODA I RASHODA "]
[]
["RASHODI PREMA FUNKCIJSKOJ KLASIFIKACIJI"]
[]
["Oznaka","Izvršenje 2022.","Plan 2023.","Plan 2024.","Projekcija 2025.","Projekcija 2026."]
["Funk. klas: 09 OBRAZOVANJE",{"$f":"+B12+B13","v":2332497.21},{"$f":"+C12+C13","v":3869019.4699999997},{"$f":"+D12+D13","v":2929345.73},2383930.17,2383930.17]
["092 Srednjoškolsko obrazovanje",{"$f":"2332257.1+0.02","v":2332257.12},3868407.9,{"$f":"2921235.73+7500","v":2928735.73},2383320.17,2383320.17]
["098 Usluge obrazovanja koje nisu drugdje svrstane",240.09,611.57000000000005,610,610,610]

{"sheet":"Račun financiranja","index":4,"n_rows":14,"n_cols":8,"rows_kept":14,"cut":false,"hidden":false,"merged":[[2,0,2,7],[4,0,4,7],[0,0,0,9]]}
["FINANCIJSKI PLAN MEDICINSKE ŠKOLE U RIJECI ZA 2024. I PROJEKCIJA ZA 2025. I 2026. GODINU \nZA 2024. I PROJEKCIJA ZA 2025. I 2026. GODINU"]
[]
["I. OPĆI DIO"]
[]
["B. RAČUN FINANCIRANJA PREMA EKONOMSKOJ KLASIFIKACIJI"]
[]
["Razred","Skupina","Naziv","Izvršenje 2022.","Plan 2023.","Plan za 2024.","Projekcija \nza 2025.","Projekcija \nza 2026."]
[null,null,"PRIMICI UKUPNO",null,{"$f":"+E9","v":520000}]
[8,null,"Primici od financijske imovine i zaduživanja",null,{"$f":"+E10","v":520000}]
[null,84,"Primici od zaduživanja",null,520000]
[]
[null,null,"IZDACI UKUPNO",null,null,{"$f":"+F14","v":520000}]
[5,null,"Izdaci za financijsku imovinu i otplate zajmova",null,null,{"$f":"+F14","v":520000}]
[null,54,"Izdaci za otplatu glavnice primljenih kredita i zajmova",null,null,520000]

{"sheet":"Račun financiranja po izvorima","index":5,"n_rows":14,"n_cols":6,"rows_kept":14,"cut":false,"hidden":false,"merged":[[2,0,2,5],[4,0,4,5],[0,0,0,9]]}
["FINANCIJSKI PLAN MEDICINSKE ŠKOLE U RIJECI ZA 2024. I PROJEKCIJA ZA 2025. I 2026. GODINU \nZA 2024. I PROJEKCIJA ZA 2025. I 2026. GODINU"]
[]
["I. OPĆI DIO"]
[]
["B. RAČUN FINANCIRANJA PREMA IZVORIMA FINANCIRANJA"]
[]
["Brojčana oznaka i naziv","Izvršenje 2022.","Plan 2023.","Plan za 2024.","Projekcija \nza 2025.","Projekcija \nza 2026."]
["PRIMICI UKUPNO",null,{"$f":"+C9","v":520000}]
["Izvor 8 Namjenski primici",null,{"$f":"+C10","v":520000}]
["Izvor 83 Namjenski primici - proračunski korisnici",null,520000]
[]
["IZDACI UKUPNO",null,null,{"$f":"+D13","v":520000}]
["Izvor 8 Namjenski primici",null,null,{"$f":"+D14","v":520000}]
["Izvor 88 Prenesena sredstva - namjenski primici",null,null,520000]

{"sheet":"Posebni dio","index":6,"n_rows":155,"n_cols":6,"rows_kept":155,"cut":false,"hidden":false,"merged":[[0,0,0,9],[4,0,4,8]]}
["FINANCIJSKI PLAN MEDICINSKE ŠKOLE U RIJECI ZA 2024. I PROJEKCIJA ZA 2025. I 2026. GODINU \nZA 2024. I PROJEKCIJA ZA 2025. I 2026. GODINU"]
[]
[]
[]
["II. POSEBNI DIO"]
[]
[]
[]
[]
[]
[]
[]
[]
["Oznaka","Izvršenje 2022.","Plan 2023.","Plan 2024.","Projekcija 2025.","Projekcija 2026."]
["SVEUKUPNO RASHODI I IZDACI",2332497.2000000002,3869019.47,{"$f":"2921845.73+7500","v":2929345.73},2383930.17,2383930.17]
["Program: 5306 Obilježavanje postignuća učenika i nastavnika",240.1,611.57000000000005,610,610,610]
["A 530605 Natjecanja i smotre",240.1,611.57000000000005,610,610,610]
["Izvor: 1 OPĆI PRIHODI I PRIMICI",240.1,611.57000000000005,610,610,610]
["Izvor: 11 Opći prihodi i primici",240.1,611.57000000000005,610,610,610]
["3 Rashodi poslovanja",240.1,611.57000000000005,610,610,610]
["32 Materijalni rashodi",240.1,611.57000000000005,610,610,610]
["Program: 5501 Srednjoškolsko obrazovanje",2313653.42,2506256.9700000002,2905540.73,2367625.17,2367625.17]
["A 550101 Osiguravanje uvjeta rada",2313653.42,2401159.92,{"$f":"2385540.73","v":2385540.73},2367625.17,2367625.17]
["Izvor: 1 OPĆI PRIHODI I PRIMICI",13935.89,39000,{"$f":"+D25","v":0}]
["Izvor: 11 Opći prihodi i primici",13935.89,19000,{"$f":"+D26","v":0}]
["3 Rashodi poslovanja",13935.89,19000]
["32 Materijalni rashodi",13935.89,19000]
["Izvor: 18 Prenesena sredstva - opći prihodi i primici",null,20000]
["3 Rashodi poslovanja",null,20000]
["32 Materijalni rashodi",null,20000]
["Izvor: 3 VLASTITI PRIHODI",14864.52,22263.48,21871.02,14973.02,14973.02]
["Izvor: 32 Vlastiti prihodi - proračunski korisnici",11629.35,14972.02,14973.02,14973.02,14973.02]
["3 Rashodi poslovanja",11629.35,14972.02,14973.02,14973.02,14973.02]
["31 Rashodi za zaposlene",2558.9,2500,2500,2500,2500]
["32 Materijalni rashodi",8973.69,12372.02,12373.02,12373.02,12373.02]
["34 Financijski rashodi",96.76]
["37 Naknade građanima i kućanstvima na temelju osiguranja i druge naknade",null,100,100,100,100]
["Izvor: 38 Prenesena sredstva - vlastiti prihodi proračunskih korisnika",3235.28,7291.46,6898]
["3 Rashodi poslovanja",3235.28,7291.46,6898]
["31 Rashodi za zaposlene",663.61,500,500]
["32 Materijalni rashodi",2571.66,6791.46,6398]
["Izvor: 4 PRIHODI ZA POSEBNE NAMJENE",158306.88,194889.99,218860.7,207843.14,207843.14]
["Izvor: 43 Prihodi za posebne namjene - proračunski korisnici",15134.77,23753.35,24264.53,24264.53,24264.53]
["3 Rashodi poslovanja",15134.77,23753.35,24264.53,24264.53,24264.53]
["32 Materijalni rashodi",14611.06,23543.71,23346.91,24054.89,24054.89]
["34 Financijski rashodi",523.71,209.64,917.62,209.64,209.64]
["Izvor: 44 Prihodi za decentralizirane funkcije",139588.6,164579,183578.61,183578.61,183578.61]
["3 Rashodi poslovanja",139588.6,164579,183578.61,183578.61,183578.61]
["32 Materijalni rashodi",139180.85999999999,164114.47,183114.08,183114.08,183114.08]
["34 Financijski rashodi",407.73,464.53,464.53,464.53,464.53]
["Izvor: 48 Prenesena sredstva - namjenski prihodi",3583.52,6557.64,11017.56]
["3 Rashodi poslovanja",3583.52,6557.64,11017.56]
["32 Materijalni rashodi",3583.52,6557.64,11017.56]
["Izvor: 5 POMOĆI",2125816.04,2143766.38,2143489.29,2143489.29,2143489.29]
["Izvor: 52 Pomoći - proračunski korisnici",2124520.84,2143356.56,2143489.29,2143489.29,2143489.29]
["3 Rashodi poslovanja",2124520.84,2143356.56,2143489.29,2143489.29,2143489.29]
["31 Rashodi za zaposlene",2096253.01,2129642.27,2131575,2131575,2131575]
["32 Materijalni rashodi",18020.38,12213.23,11513.23,11513.23,11513.23]
["34 Financijski rashodi",10230.4,1373.97,273.97000000000003,273.97000000000003,273.97000000000003]
["37 Naknade građanima i kućanstvima na temelju osiguranja i druge naknade",17.05,127.09,127.09,127.09,127.09]
["Izvor 58 Prensena sredstva - pomoći - proračunski korisnici",1295.21,409.82]
["3 Rashodi poslovanja",1295.21,409.82]
["32 Materijalni rashodi",1261.0999999999999,409.82]
["37 Naknade građanima i kućanstvima na temelju osiguranja i druge naknade",34.11]
["Izvor: 6 DONACIJE",729.98,1240.07,1319.72,1319.72,1319.72]
["Izvor: 62 Donacije - proračunski korisnici",729.98,1240.07,1319.72,1319.72,1319.72]
["3 Rashodi poslovanja",729.98,1240.07,1319.72,1319.72,1319.72]
["32 Materijalni rashodi",729.98,1240.07,1319.72,1319.72,1319.72]
["T 550102 Investicijsko održavanje objekata i opreme",null,105097.05]
["Izvor: 1 OPĆI PRIHODI I PRIMICI",null,105097.05]
["Izvor: 11 Opći prihodi i primici",null,2500]
["3 Rashodi poslovanja",null,2500]
["32 Materijalni rashodi",null,2500]
["Izvor: 18 Prenesena sredstva - opći prihodi i primici",null,102597.05]
["3 Rashodi poslovanja",null,102597.05]
["32 Materijalni rashodi",null,102597.05]
["A 550107 Otplata kredita",null,null,{"$f":"520000+D78","v":527500}]
["Izvor: 1 OPĆI PRIHODI I PRIMICI",null,null,{"$f":"+D79","v":7500}]
["Izvor: 11 Opći prihodi i primici",null,null,{"$f":"+D80","v":7500}]
["3 Rashodi poslovanja",null,null,7500]
["34 Financijski rashodi",null,null,7500]
["Izvor: 8 NAMJENSKI PRIMICI",null,null,520000]
["Izvor: 88 Prenesena sredstva - namjenski primici",null,null,520000]
["5 Izdaci za financijsku imovinu i otplate zajmova",null,null,520000]
["54 Izdaci za otplatu glavnice primljenih kredita i zajmova",null,null,520000]
["Program: 5502 Unapređenje kvalitete odgojno obrazovnog sustava",2658.19,1355697.11,12645.92,12645.92,12645.92]
["A 550205 Sufinanciranje rada pomoćnika u nastavi",null,3204.33,10281.1,10281.1,10281.1]
["Izvor: 1 OPĆI PRIHODI I PRIMICI",null,2356.7399999999998,6085.61,6085.61,6085.61]
["Izvor: 11 Opći prihodi i primici",null,2356.7399999999998,6085.61,6085.61,6085.61]
["3 Rashodi poslovanja",null,2356.7399999999998,6085.61,6085.61,6085.61]
["31 Rashodi za zaposlene",null,2356.7399999999998,6085.61,6085.61,6085.61]
["Izvor: 5 POMOĆI",null,847.59,4195.49,4195.49,4195.49]
["Izvor: 51 Pomoći",null,847.59,4195.49,4195.49,4195.49]
["3 Rashodi poslovanja",null,847.59,4195.49,4195.49,4195.49]
["31 Rashodi za zaposlene",null,688.86,3728.34,3728.34,3728.34]
["32 Materijalni rashodi",null,158.72999999999999,467.15,467.15,467.15]
["T 550207 EU projekti kod proračunskih korisnika - SŠ i učenički domovi",269.18]
["Izvor: 5 POMOĆI",269.18]
["Izvor: 52 Pomoći - proračunski korisnici",269.18]
["3 Rashodi poslovanja",269.18]
["32 Materijalni rashodi",269.18]
["A 550216 Program \"Zdravlje i higijena\"",2389.0100000000002,1200]
["Izvor: 1 OPĆI PRIHODI I PRIMICI",2389.0100000000002,1200]
["Izvor: 11 Opći prihodi i primici",2389.0100000000002,1200]
["3 Rashodi poslovanja",2389.0100000000002,1200]
["32 Materijalni rashodi",1194.51,700]
["37 Naknade građanima i kućanstvima na temelju osiguranja i druge naknade",1194.51,500]
["K 550218 Unaprjeđenje infrastrukture Medicinske škole - regionalnog centra kompetentnosti u sektoru zdravstva - EU projekt",null,1348927.96]
["Izvor: 1 OPĆI PRIHODI I PRIMICI",null,589996.21]
["Izvor: 11 Opći prihodi i primici",null,589996.21]
["3 Rashodi poslovanja",null,13859.2]
["32 Materijalni rashodi",null,13859.2]
["4 Rashodi za nabavu nefinancijske imovine",null,576137.01]
["45 Rashodi za dodatna ulaganja na nefinancijskoj imovini",null,576137.01]
["Izvor: 5 POMOĆI",null,238931.75]
["Izvor: 52 Pomoći - proračunski korisnici",null,238931.75]
["3 Rashodi poslovanja"]
["32 Materijalni rashodi"]
["4 Rashodi za nabavu nefinancijske imovine",null,238931.75]
["42 Rashodi za nabavu proizvedene dugotrajne imovine",null,161563.84]
["45 Rashodi za dodatna ulaganja na nefinancijskoj imovini",null,77367.91]
["Izvor: 8 NAMJENSKI PRIMICI",null,520000]
["Izvor: 83 Namjenski primici-proračunski korisnici",null,520000]
["4 Rashodi za nabavu nefinancijske imovine",null,520000]
["42 Rashodi za nabavu proizvedene dugotrajne imovine",null,287488.87]
["45 Rashodi za dodatna ulaganja na nefinancijskoj imovini",null,232511.13]
["45 Rashodi za dodatna ulaganja na nefinancijskoj imovini",null,232511.13]
["A 550221 Osiguranje besplatnih zaliha menstrualnih higijenskih potrepština",null,2364.8200000000002,2364.8200000000002,2364.8200000000002,2364.8200000000002]
["Izvor: 5 POMOĆI",null,2364.8200000000002,2364.8200000000002,2364.8200000000002,2364.8200000000002]
["Izvor: 52 Pomoći - proračunski korisnici",null,2364.8200000000002,2364.8200000000002,2364.8200000000002,2364.8200000000002]
["3 Rashodi poslovanja",null,2364.8200000000002,2364.8200000000002,2364.8200000000002,2364.8200000000002]
["38 Ostali rashodi",null,2364.8200000000002,2364.8200000000002,2364.8200000000002,2364.8200000000002]
["Program: 5504 Kapitalna ulaganja u odgojno obrazovnu infrastrukturu",15945.49,2364.8200000000002,3049.08,3049.08,3049.08]
["K 550401 Opremanje ustanova školstva",15945.49,6453.82,3049.08,3049.08,3049.08]
["Izvor: 4 PRIHODI ZA POSEBNE NAMJENE",14035.04,4799.6400000000003,2385.4699999999998,2385.4699999999998,2385.4699999999998]
["Izvor: 43 Prihodi za posebne namjene - proračunski korisnici",3568.91,2896.65,2385.4699999999998,2385.4699999999998,2385.4699999999998]
["4 Rashodi za nabavu nefinancijske imovine",3568.91,2896.65,2385.4699999999998,2385.4699999999998,2385.4699999999998]
["42 Rashodi za nabavu proizvedene dugotrajne imovine",3568.91,2896.65,2385.4699999999998,2385.4699999999998,2385.4699999999998]
["Izvor: 44 Prihodi za decentralizirane funkcije",null,845.11]
["4 Rashodi za nabavu nefinancijske imovine",null,845.11]
["42 Rashodi za nabavu proizvedene dugotrajne imovine",null,845.11]
["Izvor: 48 Prenesena sredstva - namjenski prihodi",10466.120000000001,1057.8800000000001]
["4 Rashodi za nabavu nefinancijske imovine",10466.120000000001,1057.8800000000001]
["42 Rashodi za nabavu proizvedene dugotrajne imovine",10466.120000000001,1057.8800000000001]
["Izvor: 5 POMOĆI",1383.81,265.45,132.72,132.72,132.72]
["Izvor: 52 Pomoći - proračunski korisnici",1286.3699999999999,265.45,132.72,132.72,132.72]
["4 Rashodi za nabavu nefinancijske imovine",1286.3699999999999,265.45,132.72,132.72,132.72]
["42 Rashodi za nabavu proizvedene dugotrajne imovine",1286.3699999999999,265.45,132.72,132.72,132.72]
["Izvor: 58 Prenesena sredstva - pomoći",97.44]
["4 Rashodi za nabavu nefinancijske imovine",97.44]
["42 Rashodi za nabavu proizvedene dugotrajne imovine",97.44]
["Izvor: 6 DONACIJE",526.64,1388.73,530.89,530.89,530.89]
["Izvor: 62 Donacije - proračunski korisnici",526.64,1388.73,530.89,530.89,530.89]
["4 Rashodi za nabavu nefinancijske imovine",526.64,1388.73,530.89,530.89,530.89]
["42 Rashodi za nabavu proizvedene dugotrajne imovine",526.64,1388.73,530.89,530.89,530.89]