{"text_format":"1","workbook":"xlsx","n_sheets":4,"sheets":["opći dio","rashodi","prihodi","višak-manjak"],"not_rendered":{"charts":0,"images":0,"macros":0,"external_links":0,"defined_names":4,"comments":0,"pivot_tables":0},"unopened":[],"bounds":{"document_bytes":16777216,"sheet_cells":100000,"rows_first":2000,"rows_last":500,"rows_between":2000,"halvings":0,"cell_chars":16384,"cell_head_chars":4096},"cells_cut":0,"cells_raw":0,"read":"whole","date_system":"1900"}

{"sheet":"opći dio","index":0,"n_rows":33,"n_cols":8,"rows_kept":33,"cut":false,"hidden":false,"merged":[[4,5,4,7],[25,0,25,7],[26,0,26,4],[12,0,12,4],[9,0,9,4],[10,0,10,4],[11,0,11,4],[20,0,20,7],[21,0,21,4],[32,0,32,7],[28,0,28,4],[29,0,29,4],[27,0,27,4],[1,0,1,7],[2,0,2,7],[3,0,3,7],[4,0,4,4],[6,0,6,4],[7,0,7,4],[16,0,16,4],[18,0,18,4],[15,0,15,7],[17,0,17,4],[19,0,19,4],[8,0,8,4]]}
[]
[]
["POLUGODIŠNJI IZVJEŠTAJ O IZVRŠENJU FINANCIJSKOG PLANA ZA 2023. GODINU"]
["OPĆI DIO"]
["                                                              A. SAŽETAK RAČUNA PRIHODA I RASHODA",null,null,null,null,"u EUR-ima"]
[null,null,null,null,null,"IZVRŠENJE 1.1.-30.6.2022.","GODIŠNJI PLAN 2023.","IZVRŠENJE 1.1.-30.6.2023."]
["PRIHODI POSLOVANJA",null,null,null,null,{"$f":"+prihodi!B6","v":1137026.45},{"$f":"+prihodi!C6","v":3657046.27},{"$f":"+prihodi!D6","v":1342118.7700000003}]
["PRIHODI OD PRODAJE NEFINANCIJSKE IMOVINE"]
["PRIHODI UKUPNO",null,null,null,null,{"$f":"SUM(F7:F8)","v":1137026.45},{"$f":"SUM(G7:G8)","v":3657046.27},1342118.7700000003]
["RASHODI  POSLOVANJA",null,null,null,null,{"$f":"+rashodi!B9+rashodi!B17+rashodi!B154+rashodi!B162+rashodi!B191","v":1140683.3799999999},{"$f":"+rashodi!C9+rashodi!C17+rashodi!C154+rashodi!C162+rashodi!C191","v":3625400.33},{"$f":"+rashodi!D9+rashodi!D17+rashodi!D154+rashodi!D162+rashodi!D191","v":1340635.4400000002}]
["RASHODI ZA NABAVU NEFINANCIJSKE IMOVINE",null,null,null,null,{"$f":"+rashodi!B196","v":9302.4},{"$f":"+rashodi!C196","v":15808.51},{"$f":"+rashodi!D196","v":2976.17}]
["RASHODI UKUPNO",null,null,null,null,{"$f":"SUM(F10:F11)","v":1149985.7799999998},{"$f":"SUM(G10:G11)","v":3641208.84},1343611.61]
["RAZLIKA - VIŠAK / MANJAK",null,null,null,null,{"$f":"F9-F12","v":-12959.329999999842},{"$f":"G9-G12","v":15837.430000000168},-1492.839999999851]
[]
[]
["                        B. SAŽETAK RAČUNA FINANCIRANJA "]
["RAČUN FINANCIRANJA",null,null,null,null,"IZVRŠENJE 1.1.-30.6.2022.","GODIŠNJI PLAN 2023.","IZVRŠENJE 1.1.-30.6.2023."]
["PRIMICI OD FINANCIJSKE IMOVINE I ZADUŽIVANJA"]
["IZDACI ZA FINANCIJSKU IMOVINU I OTPLATE ZAJMOVA"]
["NETO FINANCIRANJE",null,null,null,null,{"$f":"F18-F19","v":0},{"$f":"G18-G19","v":0},{"$f":"H18-H19","v":0}]
[]
["VIŠAK / MANJAK + NETO FINANCIRANJE",null,null,null,null,0,0,0]
[]
[]
[]
["                      C. PRENESENI VIŠAK ILI PRENESENI MANJAK I VIŠEGODIŠNJI PLAN URAVNOTEŽENJA"]
["VIŠKOVI / MANJKOVI",null,null,null,null,"IZVRŠENJE 1.1.-30.6.2022.","GODIŠNJI PLAN 2023.","IZVRŠENJE 1.1.-30.6.2023."]
["UKUPAN DONOS VIŠKA/MANJKA IZ PRETHODNE(IH) GODINA",null,null,null,null,{"$f":"+F29+F30","v":-6912.9399999999987},{"$f":"+G29+G30","v":-15837.43},-15837.43]
["VIŠAK IZ PRETHODNE(IH) GODINA KOJI ĆE SE RASPOREDITI",null,null,null,null,18677.560000000001,15316.8,15316.8]
["MANJAK IZ PRETHODNE(IH) GODINA KOJI ĆE SE POKRITI ",null,null,null,null,-25590.5,-31154.23,-31154.23]
[]
[]
["Napomena: Redak UKUPAN DONOS VIŠKA/MANJKA IZ PRETHODNE(IH) GODINA služi kao informacija i ne uzima se u obzir kod uravnoteženja proračuna, već se proračun uravnotežuje retkom VIŠAK/MANJAK IZ PRETHODNE(IH) GODINE KOJI ĆE SE POKRITI/RASPOREDITI."]

{"sheet":"rashodi","index":1,"n_rows":228,"n_cols":6,"rows_kept":228,"cut":false,"hidden":false,"merged":[[0,0,0,5],[1,5,1,7]]}
["RASHODI POSLOVANJA"]
["II. POSEBNI DIO KONSOLIDIRANOG PRORAČUNA za razdoblje od 01.01.2023. do 30.06.2023. ",null,null,null,null,"u EUR-ima"]
["Oznaka","Ostvarenje preth. god.","Godišnji plan/ Rebalans ","Ostvarenje ","Indeks","Indeks"]
[null,1,2,3,"4=3/1*100","5=3/2*100"]
["SVEUKUPNO",1149985.78,{"$f":"+C6","v":3641208.84},{"$f":"+D6","v":1343611.61},{"$f":"+D5/B5*100","v":116.83723689174661},{"$f":"+D5/C5*100","v":36.90015236808005}]
["MEDICINSKA ŠKOLA U RIJECI",1149985.78,{"$f":"+C9+C17+C154+C162+C191+C196","v":3641208.84},{"$f":"+D9+D17+D154+D191+D196","v":1343611.61},{"$f":"+D6/B6*100","v":116.83723689174661},{"$f":"+D6/C6*100","v":36.90015236808005}]
["Glava: 5 ŽUPANIJSKE USTANOVE SREDNJEG ŠKOLSTVA",1149985.78,{"$f":"+C6","v":3641208.84},{"$f":"+D6","v":1343611.61},116.83723689174661,36.90015236808005]
["17546 MEDICINSKA ŠKOLA RIJEKA",1149985.78,{"$f":"+C6","v":3641208.84},{"$f":"+D6","v":1343611.61},116.83723689174661,36.90015236808005]
["A 530605 Natjecanja i smotre",230.94,610.11,610.11,264.18550272798132,100]
["Izvor: 111 Porezni i ostali prihodi",230.94,610.11,610.11,264.18550272798132,100]
["32 Materijalni rashodi",230.94,610.11,610.11,264.18550272798132,100]
["322 Rashodi za materijal i energiju",24.69,68,68,275.41514783313079,100]
["3221 Uredski materijal i ostali materijalni rashodi",null,16,16,{"$error":"#DIV/0!"},100]
["3222 Materijal i sirovine",24.69,52,52,210.61158363710004,100]
["329 Ostali nespomenuti rashodi poslovanja",206.25,542.11,542.11,262.8412121212121,100]
["3291 Naknade za rad predstavničkih i izvršnih tijela, povjerenstava i slično",206.25,542.11,542.11,262.8412121212121,100]
["A 550101 Osiguravanje uvjeta rada",1140452.44,{"$f":"+C18+C23+C36+C48+C76+C103+C112+C141+C148","v":2336530.7000000002},{"$f":"+D18+D23+D36+D48+D76+D103+D112+D141+D148","v":1336960.51},117.23071152357744,57.219899143632048]
["Izvor: 181 Prenesena sredstva - opći prihodi i primici",null,{"$f":"+C19","v":107597.05},{"$f":"+D22","v":83736.5},{"$error":"#DIV/0!"},77.824159677240218]
["32 Materijalni rashodi",null,{"$f":"+C20","v":107597.05},null,{"$error":"#DIV/0!"},0]
["322 Rashodi za materijal i energiju",null,{"$f":"+C21+C22","v":107597.05},null,{"$error":"#DIV/0!"},0]
["3223 Energija",null,20000,null,{"$error":"#DIV/0!"},0]
["3232 Usluge tekućeg i investicijskog održavanja",null,87597.05,83736.5]
["Izvor: 321 Vlastiti prihodi - proračunski korisnici",2855.51,8970.02,2602.67,91.145539675924795,29.015208438777169]
["31 Rashodi za zaposlene",1875.37,2500,693.72,36.99110042284989,27.748800000000003]
["312 Ostali rashodi za zaposlene",1875.37,2500,693.72,36.99110042284989,27.748800000000003]
["3121 Ostali rashodi za zaposlene",1875.37,2500,693.72,36.99110042284989,27.748800000000003]
["32 Materijalni rashodi",980.14,6470.02,1908.95,194.76299304181035,29.504545581002837]
["321 Naknade troškova zaposlenima",980.14,3135.97,1808.95,184.560368926888,57.683906414921069]
["3211 Službena putovanja",980.14,3135.97,1808.95,184.560368926888,57.683906414921069]
["322 Rashodi za materijal i energiju",null,2000,null,{"$error":"#DIV/0!"},0]
["3222 Materijal i sirovine",null,2000,null,{"$error":"#DIV/0!"},0]
["323 Rashodi za usluge",null,1000,null,{"$error":"#DIV/0!"},0]
["3237 Intelektualne i osobne usluge",null,1000,null,{"$error":"#DIV/0!"},0]
["324 Naknade troškova osobama izvan radnog odnosa",null,334.05,100,{"$error":"#DIV/0!"},29.935638377488399]
["3241 Naknade troškova osobama izvan radnog odnosa",null,334.05,100,{"$error":"#DIV/0!"},29.935638377488399]
["Izvor: 383 Prenesena sredstva - vlastiti prihodi proračunskih korisnika",null,7291.46,2533.5100000000002,{"$error":"#DIV/0!"},34.74626480841971]
["31 Rashodi za zaposlene",null,500,500,{"$error":"#DIV/0!"},100]
["312 Ostali rashodi za zaposlene",null,500,500,{"$error":"#DIV/0!"},100]
["3121 Ostali rashodi za zaposlene",null,500,500,{"$error":"#DIV/0!"},100]
["32 Materijalni rashodi",null,6791.46,2033.51,{"$error":"#DIV/0!"},29.942162657219505]
["321 Naknade troškova zaposlenima",null,500,354.52,{"$error":"#DIV/0!"},70.903999999999996]
["3211 Službena putovanja",null,500,354.52,{"$error":"#DIV/0!"},70.903999999999996]
["322 Rashodi za materijal i energiju",null,500,266.99,{"$error":"#DIV/0!"},53.398000000000003]
["3221 Uredski materijal i ostali materijalni rashodi",null,500,266.99,{"$error":"#DIV/0!"},53.398000000000003]
["323 Rashodi za usluge",null,5791.46,1412,{"$error":"#DIV/0!"},24.380726103607724]
["3232 Usluge tekućeg i investicijskog održavanja",null,2500,1412,{"$error":"#DIV/0!"},56.48]
["3237 Intelektualne i osobne usluge",null,3291.46,null,{"$error":"#DIV/0!"},0]
["Izvor: 431 Prihodi za posebne namjene - proračunski korisnici",3675.78,16207.07,7650.68,208.13759256538748,47.205818201562657]
["32 Materijalni rashodi",3674.01,16067.43,7611.04,207.15893533223917,47.369367720911185]
["321 Naknade troškova zaposlenima",605.22,942.33,102.7,16.969036053005517,10.898517504483566]
["3213 Stručno usavršavanje zaposlenika",534.08000000000004,663.61,85.5,16.008837627321746,12.884073476891547]
["3214 Ostale naknade troškova zaposlenima",71.14,278.72000000000003,17.2,24.177677818386279,6.1710677382319172]
["322 Rashodi za materijal i energiju",910.11,6696.71,3151.57,346.28451505861932,47.061467496726003]
["3221 Uredski materijal i ostali materijalni rashodi",626.85,1327.23,617.59,98.522772593124358,46.532251380695136]
["3222 Materijal i sirovine",74.180000000000007,2654.46,2131.6,2873.5508223240759,80.302585083218432]
["3224 Materijal i dijelovi za tekuće i investicijsko održavanje",209.08,1194.51,104.9,50.172182896498953,8.7818436011418903]
["3225 Sitni inventar i auto gume",null,1520.51,297.48,{"$error":"#DIV/0!"},19.564488230922521]
["323 Rashodi za usluge",1139,7253.34,3327.38,292.13169446883234,45.873762983673728]
["3232 Usluge tekućeg i investicijskog održavanja",null,1327.23,292.45,{"$error":"#DIV/0!"},22.034613443035493]
["3233 Usluge promidžbe i informiranja",null,248.85,248.85,{"$error":"#DIV/0!"},100]
["3235 Zakupnine i najamnine",1069.98,2057.1999999999998,704.52,65.844221387315656,34.246548706980363]
["3236 Zdravstvene i veterinarske usluge",null,100,null,{"$error":"#DIV/0!"},0]
["3237 Intelektualne i osobne usluge",null,1741.99,null,{"$error":"#DIV/0!"},0]
["3238 Računalne usluge",null,398.17,null,{"$error":"#DIV/0!"},0]
["3239 Ostale usluge",69.02,1379.9,2081.56,3015.8794552303684,150.84861221827668]
["324 Naknade troškova osobama izvan radnog odnosa",477.46,345.08,135,28.274619863444062,39.121363162165295]
["3241 Naknade troškova osobama izvan radnog odnosa",477.46,345.08,135,28.274619863444062,39.121363162165295]
["329 Ostali nespomenuti rashodi poslovanja",542.22,829.97,894.39,164.94965143299765,107.76172632745762]
["3293 Reprezentacija",null,100,55.49,{"$error":"#DIV/0!"},55.490000000000009]
["3295 Pristojbe i naknade",33.18,66.36,null,0,0]
["3299 Ostali nespomenuti rashodi poslovanja",509.04,663.61,838.9,{"$f":"+D71/B71*100","v":164.8004086122898},{"$f":"+D71/C71*100","v":126.41461099139555}]
["34 Financijski rashodi",1.77,139.63999999999999,39.64,2239.5480225988699,28.387281581208828]
["343 Ostali financijski rashodi",1.77,139.63999999999999,39.64,2239.5480225988699,28.387281581208828]
["3431 Bankarske usluge i usluge platnog prometa",null,100,null,{"$error":"#DIV/0!"},0]
["3433 Zatezne kamate",1.77,39.64,39.64,2239.5480225988699,100]
["Izvor: 442 Prihodi za decentralizirane funkcije - SŠ",91284.39,149579,110225.09,120.74911164986698,73.690217209635051]
["32 Materijalni rashodi",90876.66,149114.47,109860.15,120.88929104568761,73.675043072613946]
["321 Naknade troškova zaposlenima",23809.78,48673.51,37296.19,156.64231252871721,76.625232082091472]
["3211 Službena putovanja",3266.93,5875.63,5061.68,154.93689794394129,86.147017426216422]
["3212 Naknade za prijevoz, za rad na terenu i odvojeni život",20332.490000000002,42662.38,32099.01,157.87053135154622,75.239613917460773]
["3213 Stručno usavršavanje zaposlenika",210.36,135.5,135.5,64.413386575394554,100]
["322 Rashodi za materijal i energiju",42244.61,64493.93,52333.38,123.88179225704769,81.14465966021919]
["3221 Uredski materijal i ostali materijalni rashodi",7362.57,10565.91,7160.24,97.251910677929047,67.767376402032582]
["3222 Materijal i sirovine",3183.83,4281.4399999999996,4279.87,134.42520486332498,99.963330094547629]
["3223 Energija",29119.85,47712.85,39262.959999999999,134.83228794104366,82.29011681339513]
["3224 Materijal i dijelovi za tekuće i investicijsko održavanje",2089.9699999999998,1117.54,1117.55,53.472059407551306,100.0008948225567]
["3225 Sitni inventar i auto gume",103.51,218.94,218.94,211.51579557530673,100]
["3227 Službena, radna i zaštitna odjeća i obuća",384.88,597.25,293.82,76.340677613801702,49.195479280033489]
["323 Rashodi za usluge",24789.09,35365.15,20195.580000000002,81.469630389820693,57.105879658364245]
["3231 Usluge telefona, pošte i prijevoza",2248.81,3450.79,1939.38,86.240278191576877,56.201043818951604]
["3232 Usluge tekućeg i investicijskog održavanja",7810.41,3984.41,3193.75,40.890939144039812,80.156158628253621]
["3234 Komunalne usluge",11565.08,22446.18,11117.06,96.126096836338348,49.527625636077047]
["3236 Zdravstvene i veterinarske usluge",1045.02,2408.12,1725.43,165.10975866490594,71.650499144560911]
["3237 Intelektualne i osobne usluge",298.63,315.22000000000003,125,41.857817365971265,39.65484423577184]
["3238 Računalne usluge",1621.26,2552.27,1886.8,116.37861909872569,73.926347917735981]
["3239 Ostale usluge",199.88,208.16,208.16,104.14248549129476,100]
["329 Ostali nespomenuti rashodi poslovanja",33.18,581.88,35,105.48523206751055,6.0149859077473025]
["3292 Premije osiguranja",null,546.88,null,{"$error":"#DIV/0!"},0]
["3294 Članarine i norme",33.18,35,35,105.48523206751055,100]
["34 Financijski rashodi",407.73,464.53,364.94,89.505309886444451,78.561126299700774]
["343 Ostali financijski rashodi",407.73,464.53,364.94,89.505309886444451,78.561126299700774]
["3431 Bankarske usluge i usluge platnog prometa",407.73,464.53,364.94,89.505309886444451,78.561126299700774]
["Izvor: 483 Prenesena sredstva - namjenski prihodi - proračunski korisnici",20.18,1800,1184.32,5868.7809712586723,65.795555555555552]
["32 Materijalni rashodi",20.18,1800,1184.32,5868.7809712586723,65.795555555555552]
["322 Rashodi za materijal i energiju",20.18,901.34,1116.82,5534.2913776015857,123.90662790955686]
["3222 Materijal i sirovine",null,300,300,{"$error":"#DIV/0!"},100]
["3224 Materijal i dijelovi za tekuće i investicijsko održavanje",0.66,300,460.65,69795.454545454544,153.54999999999998]
["3225 Sitni inventar i auto gume",19.52,301.33999999999997,356.17,1824.641393442623,118.19539390721445]
["323 Rashodi za usluge",null,898.66,67.5,{"$error":"#DIV/0!"},7.5111833173836597]
["3232 Usluge tekućeg i investicijskog održavanja",null,398.66,67.5,{"$error":"#DIV/0!"},16.931721266241908]
["3237 Intelektualne i osobne usluge",null,500,null,{"$error":"#DIV/0!"},0]
["Izvor: 521 Pomoći - proračunski korisnici",1041065.18,2043356.56,1127834.31,108.33464913311191,55.195178955942957]
["31 Rashodi za zaposlene",1021178.12,2029642.27,1121441.6499999999,109.81841737854703,55.253167840261817]
["311 Plaće (Bruto)",853319.46,1684029.96,933024.79,109.34062021742714,55.404286869100595]
["3111 Plaće za redovan rad",839637.95,1660790.75,911660.05,108.5777566390371,54.893131479688215]
["3113 Plaće za prekovremeni rad",13681.51,23239.21,21364.74,156.15776328782422,91.934020132353908]
["312 Ostali rashodi za zaposlene",26912.05,70880.66,34352.03,127.64553424952763,48.464602332991817]
["3121 Ostali rashodi za zaposlene",26912.05,70880.66,34352.03,127.64553424952763,48.464602332991817]
["313 Doprinosi na plaće",140946.60999999999,274731.65000000002,154064.82999999999,109.30722633201324,56.078296767045209]
["3132 Doprinosi za obvezno zdravstveno osiguranje",140613.95000000001,273976.92,154048.57999999999,109.55426541961162,56.226845677365809]
["3133 Doprinosi za obvezno osiguranje u slučaju nezaposlenosti",332.66,754.73,16.25,4.8848674322130696,2.1530878592344282]
["32 Materijalni rashodi",12492.02,12213.23,4971.84,39.800128401971818,40.708641366780121]
["321 Naknade troškova zaposlenima",241.82,123.84,837.46,346.31544123728395,676.24354005167959]
["3211 Službena putovanja",241.82,123.84,837.46,346.31544123728395,676.24354005167959]
["322 Rashodi za materijal i energiju",null,330.89,null,{"$error":"#DIV/0!"},0]
["3222 Materijal i sirovine",null,330.89,null,{"$error":"#DIV/0!"},0]
["323 Rashodi za usluge",3060.67,5308.91,1157.02,37.802834020002159,21.793927567052371]
["3236 Zdravstvene i veterinarske usluge",1167.96,null,null,0,{"$error":"#DIV/0!"}]
["3237 Intelektualne i osobne usluge",1892.71,5308.91,1157.02,61.130336924304309,21.793927567052371]
["324 Naknade troškova osobama izvan radnog odnosa",27.34,74.319999999999993,280.10000000000002,1024.506217995611,376.88374596340157]
["3241 Naknade troškova osobama izvan radnog odnosa",27.34,74.319999999999993,280.10000000000002,1024.506217995611,376.88374596340157]
["329 Ostali nespomenuti rashodi poslovanja",9162.19,6375.27,2697.26,29.439031497927896,42.308168908924642]
["3295 Pristojbe i naknade",4062.98,5375.27,2572.83,63.323718059158551,47.864200309937914]
["3296 Troškovi sudskih postupaka",5099.21,1000,124.43,2.4401819105312392,12.443000000000001]
["34 Financijski rashodi",7395.04,1368.34,1373.97,{"$f":"+D135/B135*100","v":18.579615526082346},{"$f":"+D135/C135*100","v":100.41144744727188}]
["343 Ostali financijski rashodi",7395.04,1368.34,1373.97,18.579615526082346,100.41144744727188]
["3433 Zatezne kamate",7395.04,1368.34,1373.97,18.579615526082346,100.41144744727188]
["37 Naknade građanima i kućanstvima na temelju osiguranja i druge naknade",null,132.72,46.85,{"$error":"#DIV/0!"},35.299879445449065]
["372 Ostale naknade građanima i kućanstvima iz proračuna",null,132.72,46.85,{"$error":"#DIV/0!"},35.299879445449065]
["3722 Naknade građanima i kućanstvima u naravi",null,132.72,46.85,{"$error":"#DIV/0!"},35.299879445449065]
["Izvor: 582 Prenesena sredstva - pomoći - proračunski korisnici",825.14,409.82,null,0,0]
["32 Materijalni rashodi",825.14,409.82,null,0,0]
["321 Naknade troškova zaposlenima",null,100,null,{"$error":"#DIV/0!"},0]
["3211 Službena putovanja",null,100,null,{"$error":"#DIV/0!"},0]
["322 Rashodi za materijal i energiju",825.14,309.82,null,0,0]
["3221 Uredski materijal i ostali materijalni rashodi",179.09,100,null,0,0]
["3222 Materijal i sirovine",646.04999999999995,209.82,null,0,0]
["Izvor: 621 Donacije - proračunski korisnici",726.26,1319.72,1193.43,164.32544818659983,90.43054587336708]
["32 Materijalni rashodi",726.26,1319.72,1193.43,164.32544818659983,90.43054587336708]
["321 Naknade troškova zaposlenima",429.49,726.22,609.99,142.02658967612749,83.995208063672166]
["3211 Službena putovanja",429.49,726.22,609.99,142.02658967612749,83.995208063672166]
["324 Naknade troškova osobama izvan radnog odnosa",296.77,593.5,583.44000000000005,196.59669104019949,98.304970513900599]
["3241 Naknade troškova osobama izvan radnog odnosa",296.77,593.5,583.44000000000005,196.59669104019949,98.304970513900599]
["A 550216 Program \"Zdravlje i higijena\"",null,1200,700,{"$error":"#DIV/0!"},58.333333333333336]
["Izvor: 111 Porezni i ostali prihodi",null,1200,700,{"$error":"#DIV/0!"},58.333333333333336]
["32 Materijalni rashodi",null,700,700,{"$error":"#DIV/0!"},100]
["322 Rashodi za materijal i energiju",null,700,700,{"$error":"#DIV/0!"},100]
["3221 Uredski materijal i ostali materijalni rashodi",null,700,700,{"$error":"#DIV/0!"},100]
["37 Naknade građanima i kućanstvima na temelju osiguranja i druge naknade",null,500,null,{"$error":"#DIV/0!"},0]
["372 Ostale naknade građanima i kućanstvima iz proračuna",null,500,null,{"$error":"#DIV/0!"},0]
["3722 Naknade građanima i kućanstvima u naravi",null,500,null,{"$error":"#DIV/0!"},0]
["K 550218 Unaprjeđenje infrastrukture Medicinske škole - regionalnog centra kompetentnosti u sektoru zdravstva - EU projekt",null,1287059.52,null,{"$error":"#DIV/0!"},0]
["Izvor: 111 Porezni i ostali prihodi",null,300000,null,{"$error":"#DIV/0!"},0]
["45 Rashodi za dodatna ulaganja na nefinancijskoj imovini",null,300000,null,{"$error":"#DIV/0!"},0]
["451 Dodatna ulaganja na građevinskim objektima",null,300000,null,{"$error":"#DIV/0!"},0]
["4511 Dodatna ulaganja na građevinskim objektima",null,300000,null,{"$error":"#DIV/0!"},0]
["Izvor: 521 Pomoći - proračunski korisnici",null,109366.2,null,{"$error":"#DIV/0!"},0]
["32 Materijalni rashodi",null,29.41,null,{"$error":"#DIV/0!"},0]
["323 Rashodi za usluge",null,29.41,null,{"$error":"#DIV/0!"},0]
["3233 Usluge promidžbe i informiranja",null,29.41,null,{"$error":"#DIV/0!"},0]
["42 Rashodi za nabavu proizvedene dugotrajne imovine",null,51764.02,null,{"$error":"#DIV/0!"},0]
["422 Postrojenja i oprema",null,51764.02,null,{"$error":"#DIV/0!"},0]
["4221 Uredska oprema i namještaj",null,1470.57,null,{"$error":"#DIV/0!"},0]
["4224 Medicinska i laboratorijska oprema",null,48822.879999999997,null,{"$error":"#DIV/0!"},0]
["4227 Uređaji, strojevi i oprema za ostale namjene",null,1470.57,null,{"$error":"#DIV/0!"},0]
["45 Rashodi za dodatna ulaganja na nefinancijskoj imovini",null,57572.77,null,{"$error":"#DIV/0!"},0]
["451 Dodatna ulaganja na građevinskim objektima",null,57572.77,null,{"$error":"#DIV/0!"},0]
["4511 Dodatna ulaganja na građevinskim objektima",null,57572.77,null,{"$error":"#DIV/0!"},0]
["Izvor: 525 Pomoći za provođenje EU projekata - proračunski korisnici",null,877693.32,null,{"$error":"#DIV/0!"},0]
["32 Materijalni rashodi",null,236.03,null,{"$error":"#DIV/0!"},0]
["323 Rashodi za usluge",null,236.03,null,{"$error":"#DIV/0!"},0]
["3233 Usluge promidžbe i informiranja",null,236.03,null,{"$error":"#DIV/0!"},0]
["42 Rashodi za nabavu proizvedene dugotrajne imovine",null,415420.26,null,{"$error":"#DIV/0!"},0]
["422 Postrojenja i oprema",null,415420.26,null,{"$error":"#DIV/0!"},0]
["4221 Uredska oprema i namještaj",null,11801.71,null,{"$error":"#DIV/0!"},0]
["4224 Medicinska i laboratorijska oprema",null,391816.84,null,{"$error":"#DIV/0!"},0]
["4227 Uređaji, strojevi i oprema za ostale namjene",null,11801.71,null,{"$error":"#DIV/0!"},0]
["45 Rashodi za dodatna ulaganja na nefinancijskoj imovini",null,462037.03,null,{"$error":"#DIV/0!"},0]
["451 Dodatna ulaganja na građevinskim objektima",null,462037.03,null,{"$error":"#DIV/0!"},0]
["4511 Dodatna ulaganja na građevinskim objektima",null,462037.03,null,{"$error":"#DIV/0!"},0]
["A 550221 Osiguranje besplatnih zaliha menstrualnih higijenskih potrepština",null,null,2364.8200000000002,{"$error":"#DIV/0!"},{"$error":"#DIV/0!"}]
["Izvor: 521 Pomoći - proračunski korisnici",null,null,2364.8200000000002,{"$error":"#DIV/0!"},{"$error":"#DIV/0!"}]
["38 Ostali rashodi",null,null,2364.8200000000002,{"$error":"#DIV/0!"},{"$error":"#DIV/0!"}]
["381 Tekuće donacije",null,null,2364.8200000000002,{"$error":"#DIV/0!"},{"$error":"#DIV/0!"}]
["3812 Tekuće donacije u naravi",null,null,2364.8200000000002,{"$error":"#DIV/0!"},{"$error":"#DIV/0!"}]
["K 550401 Opremanje ustanova školstva",9302.4,15808.51,2976.17,31.993571551427593,18.826378956650565]
["Izvor: 431 Prihodi za posebne namjene - proračunski korisnici",2209.83,8346.65,null,0,0]
["42 Rashodi za nabavu proizvedene dugotrajne imovine",2209.83,8346.65,null,0,0]
["422 Postrojenja i oprema",2209.83,7147.57,null,{"$f":"+D199/B199*100","v":0},{"$f":"+D199/C199*100","v":0}]
["4221 Uredska oprema i namještaj",null,2302.0100000000002,null,{"$error":"#DIV/0!"},0]
["4223 Oprema za održavanje i zaštitu",2209.83,null,null,0,{"$error":"#DIV/0!"}]
["4224 Medicinska i laboratorijska oprema",null,2461.1799999999998,null,{"$error":"#DIV/0!"},0]
["4227 Uređaji, strojevi i oprema za ostale namjene",null,2384.38,null,{"$error":"#DIV/0!"},0]
["424 Knjige, umjetnička djela i ostale izložbene vrijednosti",null,199.08,null,{"$error":"#DIV/0!"},0]
["4241 Knjige",null,199.08,null,{"$error":"#DIV/0!"},0]
["426 Nematerijalna proizvedena imovina",null,1000,null,{"$error":"#DIV/0!"},0]
["4262 Ulaganja u računalne programe",null,1000,null,{"$error":"#DIV/0!"},0]
["Izvor: 442 Prihodi za decentralizirane funkcije - SŠ",null,850,529.55999999999995,{"$error":"#DIV/0!"},62.301176470588224]
["42 Rashodi za nabavu proizvedene dugotrajne imovine",null,850,529.55999999999995,{"$error":"#DIV/0!"},62.301176470588224]
["422 Postrojenja i oprema",null,850,529.55999999999995,{"$error":"#DIV/0!"},62.301176470588224]
["4227 Uređaji, strojevi i oprema za ostale namjene",null,850,529.55999999999995,{"$error":"#DIV/0!"},62.301176470588224]
["Izvor: 483 Prenesena sredstva - namjenski prihodi - proračunski korisnici",7092.57,5815.52,1057.8800000000001,14.915326884331071,18.190634715382288]
["42 Rashodi za nabavu proizvedene dugotrajne imovine",7092.57,5815.52,1057.8800000000001,14.915326884331071,18.190634715382288]
["422 Postrojenja i oprema",7092.57,5815.52,1057.8800000000001,14.915326884331071,18.190634715382288]
["4221 Uredska oprema i namještaj",null,2424.25,800.38,{"$error":"#DIV/0!"},33.015571826338039]
["4223 Oprema za održavanje i zaštitu",null,null,257.5,{"$error":"#DIV/0!"},{"$error":"#DIV/0!"}]
["4224 Medicinska i laboratorijska oprema",2268.73,1461.18,null,0,0]
["4227 Uređaji, strojevi i oprema za ostale namjene",4823.84,1930.09,null,0,0]
["Izvor: 521 Pomoći - proračunski korisnici",null,265.45,null,{"$error":"#DIV/0!"},0]
["42 Rashodi za nabavu proizvedene dugotrajne imovine",null,265.45,null,{"$error":"#DIV/0!"},0]
["424 Knjige, umjetnička djela i ostale izložbene vrijednosti",null,265.45,null,{"$error":"#DIV/0!"},0]
["4241 Knjige",null,265.45,null,{"$error":"#DIV/0!"},0]
["Izvor: 621 Donacije - proračunski korisnici",null,530.89,1388.73,{"$error":"#DIV/0!"},261.5852624837537]
["42 Rashodi za nabavu proizvedene dugotrajne imovine",null,530.89,1388.73,{"$error":"#DIV/0!"},261.5852624837537]
["422 Postrojenja i oprema",null,530.89,1388.73,{"$error":"#DIV/0!"},261.5852624837537]
["4221 Uredska oprema i namještaj",null,530.89,null,{"$error":"#DIV/0!"},0]
["4223 Oprema za održavanje i zaštitu",null,null,580,{"$error":"#DIV/0!"},{"$error":"#DIV/0!"}]
["4227 Uređaji, strojevi i oprema za ostale namjene",null,null,808.73,{"$error":"#DIV/0!"},{"$error":"#DIV/0!"}]

{"sheet":"prihodi","index":2,"n_rows":55,"n_cols":6,"rows_kept":55,"cut":false,"hidden":false,"merged":[[0,0,0,5],[1,5,1,7]]}
["PRIHODI POSLOVANJA"]
["II. POSEBNI DIO KONSOLIDIRANOG PRORAČUNA za razdoblje od 01.01.2023. do 30.06.2023. ",null,null,null,null,"u EUR-ima"]
["Oznaka","Ostvarenje preth. god.","Godišnji plan/ Rebalans ","Ostvarenje","Indeks","Indeks"]
[null,1,2,3,"4=3/1*100","5=3/2*100"]
["SVEUKUPNO",{"$f":"+B6","v":1137026.45},3657046.27,{"$f":"+D6","v":1342118.7700000003},{"$f":"+D5/B5*100","v":118.03760325892159},{"$f":"+D5/C5*100","v":36.69952937182827}]
["MEDICINSKA ŠKOLA U RIJECI",{"$f":"+B9+B22+B29+B33+B38+B46+B51","v":1137026.45},3657046.27,{"$f":"+D9+D14+D18+D22+D29+D33+D38+D46+D51","v":1342118.7700000003},{"$f":"+D6/B6*100","v":118.03760325892159},{"$f":"+D6/C6*100","v":36.69952937182827}]
["Glava: 5 ŽUPANIJSKE USTANOVE SREDNJEG ŠKOLSTVA",{"$f":"+B6","v":1137026.45},3657046.27,{"$f":"+D6","v":1342118.7700000003},118.03760325892159,36.69952937182827]
["17546 MEDICINSKA ŠKOLA RIJEKA",{"$f":"+B7","v":1137026.45},3657046.27,{"$f":"+D6","v":1342118.7700000003},118.03760325892159,36.69952937182827]
["Izvor: 1111 Prihodi od zajedničkih prihoda",{"$f":"+B10","v":240.1},301810.11,null,0,0]
["67 Prihodi iz nadležnog proračuna i od HZZO-a temeljem ugovornih obveza",{"$f":"+B11","v":240.1},301810.11,null,0,0]
["671 Prihodi iz nadležnog proračuna za financiranje redovne djelatnosti proračunskih korisnika",{"$f":"+B12","v":240.1},301810.11,null,0,0]
["6711 Prihodi iz nadležnog proračuna za financiranje rashoda poslovanja",240.1,1810.11,null,0,0]
["6712 Prihodi iz nadležnog proračuna za financiranje rashoda za nabavu nefinancijske imovine",null,300000,null,{"$error":"#DIV/0!"},0]
["Izvor: 1812 Prenesena sredstva - opći prihodi i primici - ugovorne obveze",null,87597.05,73305.84,{"$error":"#DIV/0!"},83.685283922232529]
["67 Prihodi iz nadležnog proračuna i od HZZO-a temeljem ugovornih obveza",null,87597.05,73305.84,{"$error":"#DIV/0!"},83.685283922232529]
["671 Prihodi iz nadležnog proračuna za financiranje redovne djelatnosti proračunskih korisnika",null,87597.05,73305.84,{"$error":"#DIV/0!"},83.685283922232529]
["6711 Prihodi iz nadležnog proračuna za financiranje rashoda poslovanja",null,87597.05,73305.84,{"$error":"#DIV/0!"},83.685283922232529]
["Izvor: 1813 Prenesena sredstva - opći prihodi i primici - preostali višak",null,20000,null,{"$error":"#DIV/0!"},0]
["67 Prihodi iz nadležnog proračuna i od HZZO-a temeljem ugovornih obveza",null,20000,null,{"$error":"#DIV/0!"},0]
["671 Prihodi iz nadležnog proračuna za financiranje redovne djelatnosti proračunskih korisnika",null,20000,null,{"$error":"#DIV/0!"},0]
["6711 Prihodi iz nadležnog proračuna za financiranje rashoda poslovanja",null,20000,null,{"$error":"#DIV/0!"},0]
["Izvor: 321501 Vlastiti prihodi - srednje škole i učenički domovi",8108.11,8970.02,4927.7700000000004,60.775815818976319,54.935997913048126]
["64 Prihodi od imovine",0.1,null,null,0,{"$error":"#DIV/0!"}]
["641 Prihodi od financijske imovine",0.1,null,null,0,{"$error":"#DIV/0!"}]
["6413 Kamate na oročena sredstva i depozite po viđenju",0.1,null,null,0,{"$error":"#DIV/0!"}]
["66 Prihodi od prodaje proizvoda i robe te pruženih usluga i prihodi od donacija te povrati po protestiranim jamstvima",8108.01,8970.02,4927.7700000000004,60.776565396441299,54.935997913048126]
["661 Prihodi od prodaje proizvoda i robe te pruženih usluga",8108.01,8970.02,4927.7700000000004,60.776565396441299,54.935997913048126]
["6615 Prihodi od pruženih usluga",8108.01,8970.02,4927.7700000000004,60.776565396441299,54.935997913048126]
["Izvor: 431501 Prihodi za posebne namjene - srednje škole i učenički domovi",1924.48,24553.72,1111.78,57.770410708347185,4.5279493290629684]
["65 Prihodi od upravnih i administrativnih pristojbi, pristojbi po posebnim propisima i naknada",1924.48,24553.72,1111.78,57.770410708347185,4.5279493290629684]
["652 Prihodi po posebnim propisima",1924.48,24553.72,1111.78,57.770410708347185,4.5279493290629684]
["6526 Ostali nespomenuti prihodi",1924.48,24553.72,1111.78,57.770410708347185,4.5279493290629684]
["Izvor: 4421 Prihodi za decentralizirane funkcije - SŠ",{"$f":"+B34","v":85864.27},150429,{"$f":"+D34","v":98963.95},115.25626433439659,65.787813519999474]
["67 Prihodi iz nadležnog proračuna i od HZZO-a temeljem ugovornih obveza",{"$f":"+B35","v":85864.27},150429,{"$f":"+D35","v":98963.95},115.25626433439659,65.787813519999474]
["671 Prihodi iz nadležnog proračuna za financiranje redovne djelatnosti proračunskih korisnika",{"$f":"+B36","v":85864.27},150429,{"$f":"+D36+D37","v":98963.95},115.25626433439659,65.787813519999474]
["6711 Prihodi iz nadležnog proračuna za financiranje rashoda poslovanja",85864.27,149579,98434.39,114.63952351775657,65.807626739047592]
["6712 Prihodi iz nadležnog proračuna za financiranje rashoda za nabavu nefinancijske imovine",null,850,529.55999999999995,{"$error":"#DIV/0!"},62.301176470588224]
["Izvor: 521501 Pomoći - srednje škole i učenički domovi",1040159.52,2184142.44,1161180.6200000001,111.63485962230102,53.164143452109293]
["63 Pomoći iz inozemstva i od subjekata unutar općeg proračuna",1040159.52,2184142.44,1161180.6200000001,111.63485962230102,53.164143452109293]
["636 Pomoći proračunskim korisnicima iz proračuna koji im nije nadležan",1040159.52,2074776.25,1161180.6200000001,111.63485962230102,55.966546754137944]
["6361 Tekuće pomoći proračunskim korisnicima iz proračuna koji im nije nadležan",1040159.52,2074643.53,1161180.6200000001,111.63485962230102,55.9701270704563]
["6362 Kapitalne pomoći proračunskim korisnicima iz proračuna koji im nije nadležan",null,132.72,null,{"$error":"#DIV/0!"},0]
["638 Pomoći temeljem prijenosa EU sredstava",null,109366.19,null,{"$error":"#DIV/0!"},0]
["6381 Tekuće pomoći temeljem prijenosa EU sredstava",null,29.41,null,{"$error":"#DIV/0!"},0]
["6382 Kapitalne pomoći temeljem prijenosa EU sredstava",null,109336.78,null,{"$error":"#DIV/0!"},0]
["Izvor: 525101 Pomoći za provođenje EU projekata - proračunski korisnici",null,877693.32,null,{"$error":"#DIV/0!"},0]
["63 Pomoći iz inozemstva i od subjekata unutar općeg proračuna",null,877693.32,null,{"$error":"#DIV/0!"},0]
["638 Pomoći temeljem prijenosa EU sredstava",null,877693.32,null,{"$error":"#DIV/0!"},0]
["6381 Tekuće pomoći temeljem prijenosa EU sredstava",null,236.02,null,{"$error":"#DIV/0!"},0]
["6382 Kapitalne pomoći temeljem prijenosa EU sredstava",null,877457.3,null,{"$error":"#DIV/0!"},0]
["Izvor: 621501 Donacije - srednje škole i učenički domovi",729.97,1850.61,2628.81,360.12575859281884,142.05099940019778]
["66 Prihodi od prodaje proizvoda i robe te pruženih usluga i prihodi od donacija te povrati po protestiranim jamstvima",729.97,1850.61,2628.81,360.12575859281884,142.05099940019778]
["663 Donacije od pravnih i fizičkih osoba izvan općeg proračuna i povrat donacija po protestiranim jamstvima",729.97,1850.61,2628.81,360.12575859281884,142.05099940019778]
["6631 Tekuće donacije",729.97,1319.72,1240.08,169.88095401180868,93.965386597156964]
["6632 Kapitalne donacije",null,530.89,1388.73,{"$error":"#DIV/0!"},261.5852624837537]

{"sheet":"višak-manjak","index":3,"n_rows":42,"n_cols":7,"rows_kept":42,"cut":false,"hidden":false,"merged":[[3,0,3,5],[6,0,7,0],[6,1,7,1],[6,2,7,2],[6,3,7,3],[6,4,7,4],[6,5,7,5],[6,6,7,6],[8,0,8,1],[11,0,11,1],[14,0,15,0],[14,1,15,1],[14,2,15,2],[14,3,15,3],[14,4,15,4],[14,5,15,5],[14,6,15,6],[33,0,33,6],[16,0,16,1],[20,0,20,1],[23,0,24,0],[23,1,24,1],[23,2,24,2],[23,3,24,3],[23,4,24,4],[23,5,24,5],[23,6,24,6],[25,0,25,1],[29,0,29,1],[36,5,37,5],[36,6,37,6],[38,0,38,1],[41,0,41,1],[35,0,35,3],[36,0,37,0],[36,1,37,1],[36,2,37,2],[36,3,37,3],[36,4,37,4]]}
[]
[]
[]
["KORIŠTENJE PRENESENOG VIŠKA "]
[]
["Izvor financiranja 93 Vlastiti prihodi - preneseni višak",null,null,null,null,null,"u EUR-ima"]
["Račun prihoda/\nprimitka ","Naziv računa","Ostvarenje/\nizvršenje 2022. ","Tekući plan 2023","Ostvarenje/\nizvršenje 2023. ","Indeks","Indeks"]
[]
[1,null,2,4,5,"6=5/2*100","7=5/4*100"]
[922,"Višak/manjak prihoda",{"$f":"SUM(C11)","v":0},{"$f":"SUM(D11)","v":7291.46},{"$f":"SUM(E11)","v":2533.5100000000002},null,{"$f":"E10/D10*100","v":34.74626480841971}]
[92211,"Višak prihoda poslovanja ",0,7291.46,2533.5100000000002,null,{"$f":"E11/D11*100","v":34.74626480841971}]
["UKUPNO Izvor financiranja Vlastiti prihodi - preneseni višak",null,{"$f":"C10","v":0},{"$f":"D10","v":7291.46},{"$f":"E10","v":2533.5100000000002},null,{"$f":"E12/D12*100","v":34.74626480841971}]
[]
["Izvor financiranja 94 Prihodi za posebne namjene - preneseni višak",null,null,null,null,null,"u EUR-ima"]
["Račun prihoda/\nprimitka ","Naziv računa",{"$f":"+C7","v":"Ostvarenje/\nizvršenje 2022. "},{"$f":"+D7","v":"Tekući plan 2023"},{"$f":"+E7","v":"Ostvarenje/\nizvršenje 2023. "},"Indeks","Indeks"]
[]
[1,null,2,4,5,"6=5/2*100","7=5/4*100"]
[922,"Višak/manjak prihoda",{"$f":"SUM(C19:C20)","v":7112.7493529763078},{"$f":"SUM(D19:D20)","v":7615.52},2242.1999999999998,{"$f":"E18/C18*100","v":31.523675146260544},{"$f":"E18/D18*100","v":29.442506880685755}]
[92211,"Višak prihoda poslovanja ",{"$f":"152.05/7.5345","v":20.180503019443893},1800,1184.32,{"$f":"E19/C19*100","v":5868.6346859585656},{"$f":"E19/D19*100","v":65.795555555555552}]
[92212,"Višak prihoda od nefinancijske imovine",{"$f":"53438.96/7.5345","v":7092.5688499568641},5815.52,1057.8800000000001,{"$f":"E20/C20*100","v":14.915329302815778},{"$f":"E20/D20*100","v":18.190634715382288}]
["UKUPNO Izvor financiranja Prihodi za posebne namjene - preneseni višak",null,{"$f":"C18","v":7112.7493529763078},{"$f":"D18","v":7615.52},{"$f":"E18","v":2242.1999999999998},{"$f":"E21/C21*100","v":31.523675146260544},{"$f":"E21/D21*100","v":29.442506880685755}]
[]
["Izvor financiranja 95 Pomoći - preneseni višak",null,null,null,null,null,"u EUR-ima"]
["Račun prihoda/\nprimitka ","Naziv računa",{"$f":"+C7","v":"Ostvarenje/\nizvršenje 2022. "},{"$f":"+D7","v":"Tekući plan 2023"},{"$f":"+E7","v":"Ostvarenje/\nizvršenje 2023. "},"Indeks","Indeks"]
[]
[1,null,2,4,5,"6=5/2*100","7=5/4*100"]
[922,"Višak/manjak prihoda",{"$f":"SUM(C28:C29)","v":825.14566328223509},{"$f":"SUM(D28:D29)","v":409.82},0,{"$f":"E27/C27*100","v":0},{"$f":"E27/D27*100","v":0}]
[92211,"Višak prihoda poslovanja ",{"$f":"6217.06/7.5345","v":825.14566328223509},409.82,0,{"$f":"E28/C28*100","v":0},{"$f":"E28/D28*100","v":0}]
[92212,"Višak prihoda od nefinancijske imovine",null,null,null,null,{"$f":"E29/D29*100","v":{"$error":"#DIV/0!"}}]
["UKUPNO Izvor financiranja Pomoći",null,{"$f":"C27","v":825.14566328223509},{"$f":"D27","v":409.82},{"$f":"E27","v":0},{"$f":"E30/C30*100","v":0},{"$f":"E30/D30*100","v":0}]
[]
[]
[]
["POKRIĆE MANJKA "]
[]
["Izvor financiranja 95 Pomoći - manjak",null,null,null,null,null,"u EUR-ima"]
["Račun rashoda/\nizdatka","Naziv računa",{"$f":"+C7","v":"Ostvarenje/\nizvršenje 2022. "},{"$f":"+D7","v":"Tekući plan 2023"},{"$f":"+E7","v":"Ostvarenje/\nizvršenje 2023. "},"Indeks","Indeks"]
[]
[1,null,2,4,5,"6=5/2*100","7=5/4*100"]
[922,"Rezultat poslovanja ",{"$f":"+C41","v":6508.9826796735015},{"$f":"+D41","v":31154.23},{"$f":"+E41","v":31154.23},null,{"$f":"E40/D40*100","v":100}]
[92221,"Manjak prihoda poslovanja ",{"$f":"49041.93/7.5345","v":6508.9826796735015},31154.23,31154.23,null,{"$f":"E41/D41*100","v":100}]
["UKUPNO A/Tpr./Kpr.",null,{"$f":"+C41","v":6508.9826796735015},{"$f":"+D41","v":31154.23},{"$f":"+E41","v":31154.23},null,{"$f":"E42/D42*100","v":100}]